BEGIN:VCALENDAR
VERSION:2.0
PRODID:-//wp-events-plugin.com//7.2.3.1//EN
TZID:Europe/Paris
X-WR-TIMEZONE:Europe/Paris
BEGIN:VEVENT
UID:5@courcomptes.ga
DTSTART;TZID=Africa/Libreville:20251017T100000
DTEND;TZID=Africa/Libreville:20251017T100000
DTSTAMP:20251013T151743Z
URL:https://courcomptes.ga/events/ceremonie-dinstallation-des-prmus/
SUMMARY:Cérémonie d'installation des promus
DESCRIPTION:
ATTACH;FMTTYPE=image/jpeg:https://courcomptes.ga/wp-content/uploads/2025/1
 0/palais_justice.jpg
CATEGORIES:Activités nationales
END:VEVENT
BEGIN:VTIMEZONE
TZID:Africa/Libreville
X-LIC-LOCATION:Africa/Libreville
BEGIN:STANDARD
DTSTART:20241017T100000
TZOFFSETFROM:+0100
TZOFFSETTO:+0100
TZNAME:WAT
END:STANDARD
END:VTIMEZONE
END:VCALENDAR