BEGIN:VCALENDAR
VERSION:2.0
PRODID:-//wp-events-plugin.com//7.2.3.1//EN
TZID:Europe/Paris
X-WR-TIMEZONE:Europe/Paris
BEGIN:VEVENT
UID:4@courcomptes.ga
DTSTART:20240512T230000Z
DTEND:20240516T230000Z
DTSTAMP:20250202T081610Z
URL:https://courcomptes.ga/events/audit-regional-coordonne-sur-les-flux-fi
 nanciers-illicites/
SUMMARY:Audit régional coordonné sur les flux financiers illicites
DESCRIPTION:Atelier sur la revue des rapports nationaux et réunion de pré
 paration du rapport d'audit coordonné sur les flux financiers illicites
ATTACH;FMTTYPE=image/jpeg:https://courcomptes.ga/wp-content/uploads/2024/0
 5/hotelblvd.jpg
CATEGORIES:Afrosai
LOCATION:hotel Boulevard\, Acae\, Libreville\, 18420\, Gabon
X-APPLE-STRUCTURED-LOCATION;VALUE=URI;X-ADDRESS=Acae\, Libreville\, 18420\,
  Gabon;X-APPLE-RADIUS=100;X-TITLE=hotel Boulevard:geo:0,0
END:VEVENT
END:VCALENDAR